BEGIN:VCALENDAR
VERSION:2.0
PRODID:-//Gather//weaved.ch//EN
BEGIN:VEVENT
UID:gather-13376@weaved.ch
DTSTAMP:20260420T104648Z
DTSTART:20260426T140000
DTEND:20260426T160000
SUMMARY:coming soon*
LOCATION:m-nievergelt.ch\, Zürich
DESCRIPTION:*coming soon*\nnächste Gelegenheit\n\nLIEBE FRAUEN 🩶\n\nSonnenstrahlen\, Vogelzwitschern – der Frühling naht. Und mit ihm die Farben.\n\nMein Workshop: Ich – Du – Wir – eine kreative Begegnung\, findet an folgenden Daten statt:\n\nWANN:       \nSonntag 26. APRIL 2026\n &\nSonntag 31. MAI 2026\n14.00 - 17.00 \n\nWO:\nSchifflände 8001 Zürich\n\nKOSTEN:\nCHF 70.00 bis CHF 110.00  nach deinen Möglichkeiten.\n\nANMELDUNG:\nerforderlich\, die Teilnehmerinnenzahl ist begrenzt.  \nmartina@m-nievergelt.ch\n\nICH FREUE MICH AUF DICH\n\n- herz -
END:VEVENT
END:VCALENDAR