BEGIN:VCALENDAR
VERSION:2.0
PRODID:-//Gather//weaved.ch//EN
BEGIN:VEVENT
UID:gather-13375@weaved.ch
DTSTAMP:20260420T104116Z
DTSTART:20260429T190000
DTEND:20260429T210000
SUMMARY:Für alle Grübler\, Zweifler & Solo‑Unternehmer:innen Wenn du nachts wach liegst\, 
LOCATION:Lachen
DESCRIPTION:🔥 Für alle Grübler\, Zweifler & Solo‑Unternehmer:innen Wenn du nachts wach liegst\, weil dein Kopf wieder viel zu laut ist… wenn du Entscheidungen im Business zerdenkst\, bis du völlig erschöpft bist… wenn du dir endlich wünschst\, wieder ruhig zu schlafen\, klar zu fühlen und mutig zu handeln…\n✨ Dann ist dieses Webinar für dich.\n„Intuition statt Kopfkino“ zeigt dir\, wie du aus dem Grübelkreislauf aussteigst\, deiner inneren Stimme wieder vertraust und Entscheidungen triffst\, die dein Business wirklich voranbringen.\n💛 Weniger Zweifel 😴 Mehr Ruhe 🚀 Klarere Business‑Moves ✨ Und endlich wieder Vertrauen in dich\n👉 Hier kostenlos anmelden: https://nadjaboesch.com/mit-intuition-zum-erfolg/\nIch freue mich so sehr\, wenn du dir diesen Raum für dich nimmst 🤍 Liebe Grüsse Nadja🌸
END:VEVENT
END:VCALENDAR