BEGIN:VCALENDAR
VERSION:2.0
PRODID:-//Gather//weaved.ch//EN
BEGIN:VEVENT
UID:gather-13374@weaved.ch
DTSTAMP:20260420T104127Z
DTSTART:20260617T193000
DTEND:20260617T213000
SUMMARY:Hey ihr Lieben🌸
DESCRIPTION:Hey ihr Lieben🌸\n\nAm Samstag\, 20.Juni 26 ist es wieder soweit und wir dürfen auf dem Lindenhof ein wunderbares Fest geniessen🤩\nEs ist immer wieder schön\, die so vielen wunderbaren Geschichten zu hören\, die auf dem Lindenhof entstanden sind seit dem ersten Fest im Jahr 2021.\nBei uns ist jeder Mensch herzlich willkommen\, egal ob du einer Gruppierung angehörst oder nicht. \nTragt doch das Datum gleich in eurer Agenda ein\, oder meldet euch gleich per E-Mail an. \n\nrhaegi@hotmail.com\n\nGerne darf der Flyer und diese Nachricht auch an andere Menschen weitergeleitet werden. \nAlle Info's findet ihr auf obigem Flyer. 👆👆👆\n\nDer Wegbeschrieb und die letzten Infos werde ich am Donnerstag\, 18.Juni 26 allen per Mail schicken. \n\nBis Bald auf dem Lindenhof.\nWir freuen uns\, altbekannte und neue Menschen zu treffen!\n💃🧇🥙🥂\n\nHerzliche Grüsse\nDJ Martin\nRebekka und Alexandra
END:VEVENT
END:VCALENDAR