BEGIN:VCALENDAR
VERSION:2.0
PRODID:-//Gather//weaved.ch//EN
BEGIN:VEVENT
UID:gather-13370@weaved.ch
DTSTAMP:20260420T104230Z
DTSTART:20260927
DTEND:20260928
SUMMARY:NEWS:
LOCATION:Bern
DESCRIPTION:NEWS:\n\nIch bin wieder mit voller Kraft aktiv und freue mich von Herzen auf das neue Tantric Facilitator Training in Bern – dieses Mal an drei Wochenenden (Fr.–So.).\n\nIn diesem Training lernst du nicht nur Methoden\, sondern entwickelst die innere Haltung\, um tantrische Gruppen sicher\, klar und liebevoll zu begleiten.\n\nModule:\nModul 1: 25.–27.09.2026\nModul 2: 16.–18.10.2026\nModul 3: 27.–29.11.2026\n\nAssistenz an Tantra-Abenden\n\nWenn dich der Mut gepackt hat: Herzlich willkommen.\nDiese Reise geht tiefer als jedes Retreat.\n\nEs geht darum\, dich zu zeigen.\nDeinen Platz einzunehmen.\nIn der Stille zu sitzen und die feinen Bewegungen in Gruppen wahrzunehmen.\n\nEs geht um Hingabe – darum\, dich führen zu lassen und gleichzeitig selbst zu einem klaren\, präsenten Anker für andere zu werden.\n\nDie Vision hinter diesem Training ist es\, in Bern eine neue Generation von Tantra Teacher auszubilden – Menschen\, die Räume öffnen\, die berühren\, nähren und wirklich etwas bewegen. Räume\, die mit Klarheit\, Sensibilität und Integrität gehalten werden.\n\nIch bin überzeugt\, dass in den nächsten Jahren wundervolle Teacher entstehen werden\, die unserem Kollektiv Türen zu mehr Bewusstsein öffnen.\nDas hier ist erst der Anfang.\n\nMein ganzes Herz und meine Seele sind in diesem Feld.\n\nWenn du Menschen kennst\, in denen du eine noch unentdeckte Kraft und ein leuchtendes Potenzial spürst: Teile dieses Training mit ihnen.\n\nMehr Infos findest du hier\n\nDamir Maux
END:VEVENT
END:VCALENDAR