BEGIN:VCALENDAR
VERSION:2.0
PRODID:-//Gather//weaved.ch//EN
BEGIN:VEVENT
UID:gather-13361@weaved.ch
DTSTAMP:20260420T105150Z
DTSTART:20260509
DTEND:20260511
SUMMARY:WEIBLICHKEITS WEEKEND 🌹✨
LOCATION:Thun
DESCRIPTION:WEIBLICHKEITS WEEKEND 🌹✨\nThun | 9.–10. Mai 2026\n🤎🤍🖤Ein tantrisch somatisches Weekend für Frauen.\n\nEin Wochenende nur für dich.\nZum Ankommen. Durchatmen. Verbinden.\n\nTauche ein in einen geschützten Frauenraum\, in dem du deine Weiblichkeit\, Intuition und innere Kraft wieder bewusst spüren darfst. Dich erwarten Rituale\, Bewegung\, Austausch\, Stille und nährende Momente für Herz und Seele.\n\n💎Zeit für dich\n💎Verbindung unter Frauen\n💎Raum für deine Kraft & Sinnlichkeit\n💎Heilsame Verbindung mit deiner Yoni/Vulva und deinem Herzen/Brüsten - für mehr Wohlfühlen in deinem Körper und deiner (Lebens-)Lust.\n\nWenn du spürst\, dass es Zeit ist\, dir selbst wieder näher zu kommen\, dich mit allem zu umarmen– dann bist du hier genau richtig.\n\nEs gibt noch einen Platz.\n\nInfos & Anmeldung\n\nHerzlich🧡\nPaya
END:VEVENT
END:VCALENDAR