BEGIN:VCALENDAR
VERSION:2.0
PRODID:-//Gather//weaved.ch//EN
BEGIN:VEVENT
UID:gather-13360@weaved.ch
DTSTAMP:20260420T103844Z
DTSTART:20260425T000000
DTEND:20260425T020000
SUMMARY:Wir freuen uns auf unseren nächsten gemeinsamen Frauenkreis ❤️ Infos und Abmeldu
LOCATION:Zürich
DESCRIPTION:Wir freuen uns auf unseren nächsten gemeinsamen Frauenkreis ❤️ Infos und Abmeldung unter: yourbalancecoach.ch
END:VEVENT
END:VCALENDAR