BEGIN:VCALENDAR
VERSION:2.0
PRODID:-//Gather//weaved.ch//EN
BEGIN:VEVENT
UID:gather-13359@weaved.ch
DTSTAMP:20260420T104011Z
DTSTART:20260422T193000
DTEND:20260422T213000
SUMMARY:Mehr erfahren über Visionssuche
LOCATION:Baden
DESCRIPTION:Mehr erfahren über Visionssuche\nOnline oder live – so wies gerade passt für dich:\nOnline Impuls 22.4. 19:30\nWald- & Kennenlerntag So 26.4. in Baden\nhttps://wildundlebendig.ch/visionssuchetreffen/
END:VEVENT
END:VCALENDAR