BEGIN:VCALENDAR
VERSION:2.0
PRODID:-//Gather//weaved.ch//EN
BEGIN:VEVENT
UID:gather-13357@weaved.ch
DTSTAMP:20260420T104418Z
DTSTART:20260509
DTEND:20260510
SUMMARY:Tempelnacht Luzern
LOCATION:Luzern
DESCRIPTION:Tempelnacht Luzern\nSamstag\, 9. Mai 2026 💫\n\nWir laden dich ein\, dich auf eine sinnliche\, spielerische Reise zu begeben. Trete mit uns in einen Raum der Neugier\, wo herzöffnende Begegnungen auf dich warten. Gemeinsam erschaffen wir einen achtsamen Ort\, in dem alles von dir willkommen ist - jeder Gedanke\, jedes Gefühl\, jede Facette deines Seins. 🔥\n\n🎟️ Mehr Infos & Tickets hier\n\n📅 Weitere Daten:\n13.06.26\n19.09.26\n31.10.26\n28.11.26\n\nWir freuen uns auf dich! \n\nHerzlichst ♥️ \n\nSarah\, Michèle\, Caro
END:VEVENT
END:VCALENDAR