BEGIN:VCALENDAR
VERSION:2.0
PRODID:-//Gather//weaved.ch//EN
BEGIN:VEVENT
UID:gather-13352@weaved.ch
DTSTAMP:20260420T103853Z
DTSTART:20260607
DTEND:20260608
SUMMARY:Schamanische Heil- und Ausbildungsreihe
LOCATION:Freiburg\, Fribourg
DESCRIPTION:Schamanische Heil- und Ausbildungsreihe \nmit Katrin Uhl und Klaus Stern \n\nSchamanische Ausbildungen sind inzwischen leicht zugänglich und oftmals schnell durchlaufen.\nWir bieten Dir einen Raum\, in dem der Schwerpunkt auf den tiefen Erkenntnis- und Wandlungsprozessen liegt\, die ein schamanischer Weg erfordert.\nDie Reihe ist fortlaufend und so gestaltet\, dass man nach jedem Modul von sechs Terminen ein- oder aussteigen kann\, ohne etwas zu versäumen.\nGrundvoraussetzung ist das sichere schamanische Reisen im Sinne des Core Shamanism.\nFür Anfänger *innen und Erfahrene\, die tief tauchen wollen!\n\nBeginn: 25. Juli 2026\nKirchzarten bei Freiburg\n\nWeitere Infos: www.wandel-pfade.net\nEinführung in die schamanische Reise 6. & 7. Juni 2026 \nFreiburg im Breisgau\n\n🪶Du lernst\, Dich in Trance zu versetzen\n🪶Selbständig schamanische Reisen zu unternehmen\n🪶Mit Deinen Verbündeten in der Anderswelt zu kommunizieren\n🪶Reisen in die mittlere\, obere und untere Welt\n🪶Lernst die Grundzüge kennen\, für Dich oder andere zu schamanisieren\n🪶Du lernst auch die Fallstricke und Stolpersteine kennen\n\nWir arbeiten ohne Entheogene\, frei von esoterischem Chichi und kopieren keine indigenen Zeremonien oder Weltbilder. Die Inhalte werden individuell auf die Bedürfnisse der Teilnehmer*innen angepasst. \nNach dem Kurs bist Du so aufgestellt\, dass Du selbst Dein eigenes schamanisches Weltbild entdecken\, erforschen und weiterentwickeln kannst. \nDas gelernte befähigt Dich\, herauszufinden\, welche der vielen schamanischen Wege die für Dich stimmigen\, heilsamen und verträglichen sind! \n\nWir arbeiten trans- \, rassismus- und traumainformiert.\n\nMehr Infos: \nwww.wandel-pfade.net
END:VEVENT
END:VCALENDAR