BEGIN:VCALENDAR
VERSION:2.0
PRODID:-//Gather//weaved.ch//EN
BEGIN:VEVENT
UID:gather-13351@weaved.ch
DTSTAMP:20260420T110555Z
DTSTART:20260514T130000
DTEND:20260514T150000
SUMMARY:Back to nature -
DESCRIPTION:Back to nature - \n3-Tageretreat zu deinen Ursprungswurzeln
END:VEVENT
END:VCALENDAR