BEGIN:VCALENDAR
VERSION:2.0
PRODID:-//Gather//weaved.ch//EN
BEGIN:VEVENT
UID:gather-12656@weaved.ch
DTSTAMP:20260421T093608Z
DTSTART:20260503
DTEND:20260504
SUMMARY:Herzlich willkomme und gerne weiterflüstern
DESCRIPTION:Herzlich willkomme und gerne weiterflüstern
END:VEVENT
END:VCALENDAR