BEGIN:VCALENDAR
VERSION:2.0
PRODID:-//Gather//weaved.ch//EN
BEGIN:VEVENT
UID:gather-12629@weaved.ch
DTSTAMP:20260421T094526Z
DTSTART:20260425
DTEND:20260427
SUMMARY:Wie fühlt sich Beziehung an\, wenn deine Freude\, Neugier und Spiellust führen?
LOCATION:EXPAND:\, Kreuzlingen
DESCRIPTION:Wie fühlt sich Beziehung an\, wenn deine Freude\, Neugier und Spiellust führen? \n\nFreierer Selbstausdruck.\nWache\, ehrliche Beziehungen.\nMehr von dem Menschen sein\, der du eigentlich bist.\n\nDarum geht es bei EXPAND:\n👉 Mehr erfahren 👈\n\n🗓 25.-26. April 2026\n🧭 Kreuzlingen\n🫰ab 249 Euro
END:VEVENT
END:VCALENDAR