BEGIN:VCALENDAR
VERSION:2.0
PRODID:-//Gather//weaved.ch//EN
BEGIN:VEVENT
UID:gather-12625@weaved.ch
DTSTAMP:20260421T094648Z
DTSTART:20260423
DTEND:20260424
SUMMARY:Heute in einer Woche tanzen wir wieder zusammen! Bist du dabei? 🚀
DESCRIPTION:Heute in einer Woche tanzen wir wieder zusammen! Bist du dabei? 🚀 \n\nDer nächste Xtatic Dance Rave findet am Donnerstag\, 23. April 2026 statt – der letzte Rave vor dem Sommer! Lass uns noch einmal gemeinsam den Beat fühlen und uns von der Musik tragen lassen 🔥\n\nPsst 🤫 weisst du was? Wetten\, das musikalische Outro wird für dich ein «First»? 😏✨ Wir sind gespannt!\n\nWie immer gilt:\n✨ Präsenz – wir starten gemeinsam und landen auch gemeinsam\n✨ Community – wir kreieren zusammen den Space und achten aufeinander\n✨ Tanz als Ausdruck – auf der Tanzfläche kommunizieren wir ohne Worte \n\nBring deine Friends\, Lovers – oder komm einfach mit dir selbst 💛 Wir freuen uns auf dich!\n\nMuch love\, XD-Team 💫
END:VEVENT
END:VCALENDAR