BEGIN:VCALENDAR
VERSION:2.0
PRODID:-//Gather//weaved.ch//EN
BEGIN:VEVENT
UID:gather-12624@weaved.ch
DTSTAMP:20260421T094456Z
DTSTART:20260426T170000
DTEND:20260426T190000
SUMMARY:Mitsing-Konzert:
LOCATION:mall.ch\, St. Gallen
DESCRIPTION:☀️\nMitsing-Konzert:\n\nWir freuen uns schon sehr auf die beiden Sonntag-Abende\, wo wir gemeinsam singen oder den harmonischen Klängen lauschen. 🥰\n\nKommenden Mittwoch haben wir fünf BALSAM-Frauen sozusagen unsere Hauptprobe. 😊\n\n☀️🌸☀️🎉🎉🎉☀️🌸☀️\n\nWeil es nicht unendlich viel Platz hat\, sind wir dankbar um eine Anmeldung. \n\n☀️🌸☀️🎉🎉🎉☀️🌸☀️\n\nBALSAM-Mitsing-Konzerte\n\n☀️🌸☀️🎉🎉🎉☀️🌸☀️
END:VEVENT
END:VCALENDAR