BEGIN:VCALENDAR
VERSION:2.0
PRODID:-//Gather//weaved.ch//EN
BEGIN:VEVENT
UID:gather-12617@weaved.ch
DTSTAMP:20260421T094124Z
DTSTART:20260923
DTEND:20260928
SUMMARY:Cultivate your heART of teaching
LOCATION:Biosphärenreservat Rhön\, Lachen
DESCRIPTION:Cultivate your heART of teaching\nRetreat für Yogalehrer*innen\n\nAus der Zeit\,\ndie du dir widmest\,\nwächst die Kraft\,\nmit der du\nden Schatz des Yoga weitergibst.\n\nFreue dich auf:\n♥️ Tägliche Sadhana\n🧘🏽‍♀️ Workshops zur Yoga-Philosophie\, Hands-on\, Stimme\, Anatomie\n📷 Authentische Fotos von dir zur Nutzung für deine eigenen Angebote\n🤗 Community Circles für echten Austausch und gemeinsames Wachstum\n🌳 Wunderschöne Wanderwege im Biosphärenreservat vor der Haustür\n🛏 4 Übernachtungen und abwechslungsreiche Vollverpflegung\n\n23. - 27. Sep 2026\n📍Biosphärenreservat Rhön\n\nSichere dir einen von nur 6 EARLY BIRD Plätzen.\n\nAlle Infos & Anmeldung: https://johanna-hector-coaching.com/retreat-immersion-fuer-yogalehrerinnen/
END:VEVENT
END:VCALENDAR