BEGIN:VCALENDAR
VERSION:2.0
PRODID:-//Gather//weaved.ch//EN
BEGIN:VEVENT
UID:gather-12616@weaved.ch
DTSTAMP:20260421T094854Z
DTSTART:20260507
DTEND:20260510
SUMMARY:Im Mai findet wieder unsere Auszeit mit Pferden statt – vielleicht genau der ric
DESCRIPTION:Im Mai findet wieder unsere Auszeit mit Pferden statt – vielleicht genau der richtige Moment\, dir bewusst Zeit für dich zu nehmen.\n\nVom 7.–9. Mai 2026 verbringen wir drei Tage draußen in der Natur\, begleitet von einer frei lebenden Pferdeherde.\n\nWas dich erwartet:\n– Zelten auf der Weide\n– Kochen über dem Feuer\n– Zeit für dich & Austausch im Kreis\n– achtsame Begegnungen mit den Pferden\n– Ausritte in den Wald (auch ohne Vorerfahrung möglich)\n\nEs geht nicht darum\, etwas zu leisten.\nSondern darum\, wieder bei dir anzukommen\, zur Ruhe zu kommen und zu spüren\, was dir wirklich wichtig ist.\n\nWenn dich das anspricht\, bist du herzlich willkommen. 🤍\n\nEarly Bird bis 20. April: 399€\n\nMehr Infos & Anmeldung:\nwww.auszeitmitpferden.de
END:VEVENT
END:VCALENDAR