BEGIN:VCALENDAR
VERSION:2.0
PRODID:-//Gather//weaved.ch//EN
BEGIN:VEVENT
UID:gather-12611@weaved.ch
DTSTAMP:20260421T094316Z
DTSTART:20260508
DTEND:20260511
SUMMARY:Ecstatic Cuties proudly present:
LOCATION:Fulda
DESCRIPTION:Ecstatic Cuties proudly present:\n\n🌷 Somatic Cuties – Beauty & Joy 🌷\nEin körperorientiertes\, queer-zentriertes Workshop- und Praxiswochenende für somatische Bewegung und Körperwahrnehmung.\n\nWann? 08.05-10.05.2026 (Fr-So\, spätere Anreise mölgich)\nWo? Sonnerden bei Fulda\nWieviel? solidarische Preisspanne zwischen 350€-200€ inkl. Zimmer&Verpflegung\nWer? Somatic Nerds & alle die es noch werden wollen \n\nDas Wochenende ist als Workshop- und Praxisformat konzipiert\, in dem unterschiedliche somatische Methoden durch angeleitete Übungen\, gemeinsame Praxis und Reflexion erfahrbar gemacht werden.\n\n👉🏻 Mehr Infos findest du hier (die werden auch laufend aktualisiert)\n\n👉🏻 Anmelden kannst du dich direkt hier (Anmeldefrist 22.04)\n\nCute Grüße\nZuzu & die Cuties\n🐭
END:VEVENT
END:VCALENDAR