BEGIN:VCALENDAR
VERSION:2.0
PRODID:-//Gather//weaved.ch//EN
BEGIN:VEVENT
UID:gather-12376@weaved.ch
DTSTAMP:20260419T145230Z
DTSTART:20270302T191500
DTEND:20270302T211500
SUMMARY:Hey Männer:
LOCATION:Zürich
DESCRIPTION:Hey Männer:\nHeute Abend\, 15.4. von 19:15-22:00\nKuschelabend - gleich beim HB Zürich\nHeute haben wir noch 2-3 Plätze frei für kuschelige MÄNNER👍😄\nInfos: herz-kuscheln.ch\nAnmeldung: 076 420 97 88\, Bernhard\n...und auch Frauen hätten noch Platz😉
END:VEVENT
END:VCALENDAR