BEGIN:VCALENDAR
VERSION:2.0
PRODID:-//Gather//weaved.ch//EN
BEGIN:VEVENT
UID:gather-12121@weaved.ch
DTSTAMP:20260421T094854Z
DTSTART:20260507T150000
DTEND:20260507T170000
SUMMARY:Liebe Freunde der Kunst & Malerei 🧑‍🎨
LOCATION:ORDSTRASSE 238\, Zürich
DESCRIPTION:Liebe Freunde der Kunst & Malerei 🧑‍🎨\n\nes ist soweit… eine weitere einzigartige Ausstellung findet statt.\nJene die mich kennen\, wissen\, dass ich das Aussergewöhnliche liebe.\n\nKomm als vorbei. Ich / wir freuen uns auf Dich und Dein Kind/er\n\nIch bin jeweils am Freitag vor Ort und am 1. & 3.ten Samstag/Sonntag wir sehen uns dann\, gell. Ich freue mich au Dich😊\n\nEin SpecialEvent gebe ich schon preis 😉\nSamstags von 15:00 bis sicherlich 16:00 findet ein malen für kleine & grosse Kinder statt 😊 sei also mit dabei.\n\nEin Künstlerinnentalk findet auch statt . Weitere toll Inspirationan\, sind ab 11.5. auf www.boavista.ch ersichtlich 😊\n\nBis gli 🙋‍♀️
END:VEVENT
END:VCALENDAR